BEGIN:VCALENDAR
VERSION:2.0
PRODID:-//DIOCESI DI ROMA - ECPv4.6.14.1//NONSGML v1.0//EN
CALSCALE:GREGORIAN
METHOD:PUBLISH
X-WR-CALNAME:DIOCESI DI ROMA
X-ORIGINAL-URL:https://www.diocesidiroma.it
X-WR-CALDESC:Eventi per DIOCESI DI ROMA
BEGIN:VEVENT
DTSTART;TZID=Europe/Rome:20260209T161500
DTEND;TZID=Europe/Rome:20260209T161500
DTSTAMP:20260422T055943
CREATED:20260209T072806Z
LAST-MODIFIED:20260209T072806Z
UID:39806-1770653700-1770653700@www.diocesidiroma.it
SUMMARY:Presiede la riunione del Capitolo dei Canonici di San Giovanni in Laterano
DESCRIPTION:Presiede la riunione del Capitolo dei Canonici di San Giovanni in Laterano \n
URL:https://www.diocesidiroma.it/event/presiede-la-riunione-del-capitolo-dei-canonici-di-san-giovanni-in-laterano/
CATEGORIES:Vicario Generale
END:VEVENT
END:VCALENDAR