BEGIN:VCALENDAR
VERSION:2.0
PRODID:-//DIOCESI DI ROMA - ECPv4.6.14.1//NONSGML v1.0//EN
CALSCALE:GREGORIAN
METHOD:PUBLISH
X-WR-CALNAME:DIOCESI DI ROMA
X-ORIGINAL-URL:https://www.diocesidiroma.it
X-WR-CALDESC:Eventi per DIOCESI DI ROMA
BEGIN:VEVENT
DTSTART;TZID=Europe/Rome:20211011T160000
DTEND;TZID=Europe/Rome:20211011T160000
DTSTAMP:20260424T020317
CREATED:20211008T084533Z
LAST-MODIFIED:20211008T084533Z
UID:18391-1633968000-1633968000@www.diocesidiroma.it
SUMMARY:Presiede la riunione del Capitolo della basilica lateranense
DESCRIPTION:Presiede la riunione del Capitolo della basilica lateranense. \n
URL:https://www.diocesidiroma.it/event/presiede-la-riunione-del-capitolo-della-basilica-lateranense-11/
CATEGORIES:NON USARE --- Agenda del Vicario
END:VEVENT
END:VCALENDAR