BEGIN:VCALENDAR
VERSION:2.0
PRODID:-//DIOCESI DI ROMA - ECPv4.6.14.1//NONSGML v1.0//EN
CALSCALE:GREGORIAN
METHOD:PUBLISH
X-WR-CALNAME:DIOCESI DI ROMA
X-ORIGINAL-URL:https://www.diocesidiroma.it
X-WR-CALDESC:Eventi per DIOCESI DI ROMA
BEGIN:VEVENT
DTSTART;TZID=Europe/Rome:20221003T160000
DTEND;TZID=Europe/Rome:20221003T160000
DTSTAMP:20260423T022152
CREATED:20220930T101332Z
LAST-MODIFIED:20220930T101332Z
UID:22690-1664812800-1664812800@www.diocesidiroma.it
SUMMARY:Presiede la riunione del Capitolo della basilica lateranense
DESCRIPTION: Presiede la riunione del Capitolo della basilica lateranense \n
URL:https://www.diocesidiroma.it/event/presiede-la-riunione-del-capitolo-della-basilica-lateranense-12/
CATEGORIES:NON USARE --- Agenda del Vicario
END:VEVENT
END:VCALENDAR