BEGIN:VCALENDAR
VERSION:2.0
PRODID:-//DIOCESI DI ROMA - ECPv4.6.14.1//NONSGML v1.0//EN
CALSCALE:GREGORIAN
METHOD:PUBLISH
X-WR-CALNAME:DIOCESI DI ROMA
X-ORIGINAL-URL:https://www.diocesidiroma.it
X-WR-CALDESC:Eventi per DIOCESI DI ROMA
BEGIN:VEVENT
DTSTART;TZID=Europe/Rome:20190305T163000
DTEND;TZID=Europe/Rome:20190305T163000
DTSTAMP:20260421T233825
CREATED:20190301T072907Z
LAST-MODIFIED:20190301T072907Z
UID:6854-1551803400-1551803400@www.diocesidiroma.it
SUMMARY:Presiede la riunione del capitolo della basilica lateranense
DESCRIPTION:Presiede la riunione del capitolo della basilica lateranense. \n
URL:https://www.diocesidiroma.it/event/presiede-la-riunione-del-capitolo-della-basilica-lateranense-2/
CATEGORIES:NON USARE --- Agenda del Vicario
END:VEVENT
END:VCALENDAR