BEGIN:VCALENDAR
VERSION:2.0
PRODID:-//DIOCESI DI ROMA - ECPv4.6.14.1//NONSGML v1.0//EN
CALSCALE:GREGORIAN
METHOD:PUBLISH
X-WR-CALNAME:DIOCESI DI ROMA
X-ORIGINAL-URL:https://www.diocesidiroma.it
X-WR-CALDESC:Eventi per DIOCESI DI ROMA
BEGIN:VEVENT
DTSTART;TZID=Europe/Rome:20241118T083000
DTEND;TZID=Europe/Rome:20241118T083000
DTSTAMP:20260425T102736
CREATED:20241115T161051Z
LAST-MODIFIED:20241115T161051Z
UID:31936-1731918600-1731918600@www.diocesidiroma.it
SUMMARY:Presiede la riunione del Consiglio Episcopale
DESCRIPTION:Presiede la riunione del Consiglio Episcopale \n
URL:https://www.diocesidiroma.it/event/presiede-la-riunione-del-consiglio-episcopale-3/
CATEGORIES:Vicario Generale
END:VEVENT
END:VCALENDAR