BEGIN:VCALENDAR
VERSION:2.0
PRODID:-//DIOCESI DI ROMA - ECPv4.6.14.1//NONSGML v1.0//EN
CALSCALE:GREGORIAN
METHOD:PUBLISH
X-WR-CALNAME:DIOCESI DI ROMA
X-ORIGINAL-URL:https://www.diocesidiroma.it
X-WR-CALDESC:Eventi per DIOCESI DI ROMA
BEGIN:VEVENT
DTSTART;TZID=Europe/Rome:20241122T090000
DTEND;TZID=Europe/Rome:20241122T090000
DTSTAMP:20260423T163827
CREATED:20241115T170750Z
LAST-MODIFIED:20241115T170750Z
UID:31966-1732266000-1732266000@www.diocesidiroma.it
SUMMARY:Presiede la riunione del Consiglio Episcopale
DESCRIPTION: Presiede la riunione del Consiglio Episcopale \n
URL:https://www.diocesidiroma.it/event/presiede-la-riunione-del-consiglio-episcopale-4/
CATEGORIES:Vicario Generale
END:VEVENT
END:VCALENDAR