BEGIN:VCALENDAR
VERSION:2.0
PRODID:-//DIOCESI DI ROMA - ECPv4.6.14.1//NONSGML v1.0//EN
CALSCALE:GREGORIAN
METHOD:PUBLISH
X-WR-CALNAME:DIOCESI DI ROMA
X-ORIGINAL-URL:https://www.diocesidiroma.it
X-WR-CALDESC:Eventi per DIOCESI DI ROMA
BEGIN:VEVENT
DTSTART;TZID=Europe/Rome:20241231T183000
DTEND;TZID=Europe/Rome:20241231T183000
DTSTAMP:20260425T022009
CREATED:20241230T073353Z
LAST-MODIFIED:20241230T074939Z
UID:32869-1735669800-1735669800@www.diocesidiroma.it
SUMMARY:Presiede la Santa Messa di ringraziamento alla Chiesa del Gesù e Te Deum
DESCRIPTION:Presiede la Santa Messa di ringraziamento alla Chiesa del Gesù e Te Deum \n
URL:https://www.diocesidiroma.it/event/presiede-la-santa-messa-di-ringraziamento-al-gesu-e-te-deum/
CATEGORIES:Vicario Generale
END:VEVENT
END:VCALENDAR