BEGIN:VCALENDAR
VERSION:2.0
PRODID:-//DIOCESI DI ROMA - ECPv4.6.14.1//NONSGML v1.0//EN
CALSCALE:GREGORIAN
METHOD:PUBLISH
X-WR-CALNAME:DIOCESI DI ROMA
X-ORIGINAL-URL:https://www.diocesidiroma.it
X-WR-CALDESC:Eventi per DIOCESI DI ROMA
BEGIN:VEVENT
DTSTART;TZID=Europe/Rome:20250628T210000
DTEND;TZID=Europe/Rome:20250628T210000
DTSTAMP:20260421T222447
CREATED:20250620T083714Z
LAST-MODIFIED:20250620T083714Z
UID:36189-1751144400-1751144400@www.diocesidiroma.it
SUMMARY:Presiede la veglia di preghiera nella basilica di San Pietro
DESCRIPTION:Presiede la veglia di preghiera nella basilica di San Pietro \n
URL:https://www.diocesidiroma.it/event/presiede-la-veglia-di-preghiera-nella-basilica-di-san-pietro/
CATEGORIES:Vicario Generale
END:VEVENT
END:VCALENDAR