BEGIN:VCALENDAR
VERSION:2.0
PRODID:-//DIOCESI DI ROMA - ECPv4.6.14.1//NONSGML v1.0//EN
CALSCALE:GREGORIAN
METHOD:PUBLISH
X-WR-CALNAME:DIOCESI DI ROMA
X-ORIGINAL-URL:https://www.diocesidiroma.it
X-WR-CALDESC:Eventi per DIOCESI DI ROMA
BEGIN:VEVENT
DTSTART;TZID=Europe/Rome:20241122T193000
DTEND;TZID=Europe/Rome:20241122T193000
DTSTAMP:20260423T212230
CREATED:20241115T171049Z
LAST-MODIFIED:20241115T171049Z
UID:31972-1732303800-1732303800@www.diocesidiroma.it
SUMMARY:Presiede la veglia di preghiera nella parrocchia Santa Faustina Kowalska
DESCRIPTION:Presiede la veglia di preghiera nella parrocchia Santa Faustina Kowalska \n
URL:https://www.diocesidiroma.it/event/presiede-la-veglia-di-preghiera-nella-parrocchia-santa-faustina-kowalska/
CATEGORIES:Vicario Generale
END:VEVENT
END:VCALENDAR