BEGIN:VCALENDAR
VERSION:2.0
PRODID:-//DIOCESI DI ROMA - ECPv4.6.14.1//NONSGML v1.0//EN
CALSCALE:GREGORIAN
METHOD:PUBLISH
X-WR-CALNAME:DIOCESI DI ROMA
X-ORIGINAL-URL:https://www.diocesidiroma.it
X-WR-CALDESC:Eventi per DIOCESI DI ROMA
BEGIN:VEVENT
DTSTART;TZID=Europe/Rome:20231120T153000
DTEND;TZID=Europe/Rome:20231120T153000
DTSTAMP:20260423T201715
CREATED:20231117T120338Z
LAST-MODIFIED:20231117T120338Z
UID:27958-1700494200-1700494200@www.diocesidiroma.it
SUMMARY:Presiede l’inaugurazione dell’Anno Accademico dell’Istituto Superiore di Scienze Religiose Ecclesia Mater.
DESCRIPTION:Presiede l’inaugurazione dell’Anno Accademico dell’Istituto Superiore di Scienze Religiose Ecclesia Mater. \n
URL:https://www.diocesidiroma.it/event/presiede-linaugurazione-dellanno-accademico-dellistituto-superiore-di-scienze-religiose-ecclesia-mater/
CATEGORIES:NON USARE --- Agenda del Vicario
END:VEVENT
END:VCALENDAR