BEGIN:VCALENDAR
VERSION:2.0
PRODID:-//DIOCESI DI ROMA - ECPv4.6.14.1//NONSGML v1.0//EN
CALSCALE:GREGORIAN
METHOD:PUBLISH
X-WR-CALNAME:DIOCESI DI ROMA
X-ORIGINAL-URL:https://www.diocesidiroma.it
X-WR-CALDESC:Eventi per DIOCESI DI ROMA
BEGIN:VEVENT
DTSTART;TZID=Europe/Rome:20251108T093000
DTEND;TZID=Europe/Rome:20251108T093000
DTSTAMP:20260423T201440
CREATED:20251031T094802Z
LAST-MODIFIED:20251031T094813Z
UID:38328-1762594200-1762594200@www.diocesidiroma.it
SUMMARY:Presiede l’incontro con i referenti dei gruppi di pastorale familiare e preparazione al battesimo dei bambini
DESCRIPTION:Presiede l’incontro con i referenti dei gruppi di pastorale familiare e preparazione al battesimo dei bambini \n
URL:https://www.diocesidiroma.it/event/presiede-lincontro-con-i-referenti-dei-gruppi-di-pastorale-familiare-e-preparazione-al-battesimo-dei-bambini/
CATEGORIES:Vicario Generale
END:VEVENT
END:VCALENDAR