BEGIN:VCALENDAR
VERSION:2.0
PRODID:-//DIOCESI DI ROMA - ECPv4.6.14.1//NONSGML v1.0//EN
CALSCALE:GREGORIAN
METHOD:PUBLISH
X-WR-CALNAME:DIOCESI DI ROMA
X-ORIGINAL-URL:https://www.diocesidiroma.it
X-WR-CALDESC:Eventi per DIOCESI DI ROMA
BEGIN:VEVENT
DTSTART;TZID=Europe/Rome:20200220T110000
DTEND;TZID=Europe/Rome:20200220T110000
DTSTAMP:20260424T020436
CREATED:20200214T085911Z
LAST-MODIFIED:20200214T085924Z
UID:10025-1582196400-1582196400@www.diocesidiroma.it
SUMMARY:Presso il Camillianum presiede l’Assemblea dei Superiori Maggiori del Lazio
DESCRIPTION:Presso il Camillianum presiede l’Assemblea dei Superiori Maggiori del Lazio. \n
URL:https://www.diocesidiroma.it/event/presso-il-camillianum-presiede-lassemblea-dei-superiori-maggiori-del-lazio/
CATEGORIES:NON USARE --- Agenda del Vicario
END:VEVENT
END:VCALENDAR