BEGIN:VCALENDAR
VERSION:2.0
PRODID:-//DIOCESI DI ROMA - ECPv4.6.14.1//NONSGML v1.0//EN
CALSCALE:GREGORIAN
METHOD:PUBLISH
X-WR-CALNAME:DIOCESI DI ROMA
X-ORIGINAL-URL:https://www.diocesidiroma.it
X-WR-CALDESC:Eventi per DIOCESI DI ROMA
BEGIN:VEVENT
DTSTART;TZID=Europe/Rome:20190517T120000
DTEND;TZID=Europe/Rome:20190517T120000
DTSTAMP:20260424T070711
CREATED:20190510T082318Z
LAST-MODIFIED:20190510T082318Z
UID:7557-1558094400-1558094400@www.diocesidiroma.it
SUMMARY:Presso il Centro Agroalimentare di Roma celebra la Messa in occasione del mese mariano
DESCRIPTION:Presso il Centro Agroalimentare di Roma celebra la Messa in occasione del mese mariano. \n
URL:https://www.diocesidiroma.it/event/presso-il-centro-agroalimentare-di-roma-celebra-la-messa-in-occasione-del-mese-mariano/
CATEGORIES:NON USARE --- Agenda del Vicario
END:VEVENT
END:VCALENDAR