BEGIN:VCALENDAR
VERSION:2.0
PRODID:-//DIOCESI DI ROMA - ECPv4.6.14.1//NONSGML v1.0//EN
CALSCALE:GREGORIAN
METHOD:PUBLISH
X-WR-CALNAME:DIOCESI DI ROMA
X-ORIGINAL-URL:https://www.diocesidiroma.it
X-WR-CALDESC:Eventi per DIOCESI DI ROMA
BEGIN:VEVENT
DTSTART;TZID=Europe/Rome:20190711T183000
DTEND;TZID=Europe/Rome:20190711T183000
DTSTAMP:20260422T044905
CREATED:20190705T094754Z
LAST-MODIFIED:20190705T094754Z
UID:8016-1562869800-1562869800@www.diocesidiroma.it
SUMMARY:Presso il Palazzo della Consulta partecipa alla Cerimonia di presentazione dei distintivi di qualifica della Polizia di Stato
DESCRIPTION:Presso il Palazzo della Consulta partecipa alla Cerimonia di presentazione dei distintivi di qualifica della Polizia di Stato.  \n
URL:https://www.diocesidiroma.it/event/presso-il-palazzo-della-consulta-partecipa-alla-cerimonia-di-presentazione-dei-distintivi-di-qualifica-della-polizia-di-stato/
CATEGORIES:NON USARE --- Agenda del Vicario
END:VEVENT
END:VCALENDAR