BEGIN:VCALENDAR
VERSION:2.0
PRODID:-//DIOCESI DI ROMA - ECPv4.6.14.1//NONSGML v1.0//EN
CALSCALE:GREGORIAN
METHOD:PUBLISH
X-WR-CALNAME:DIOCESI DI ROMA
X-ORIGINAL-URL:https://www.diocesidiroma.it
X-WR-CALDESC:Eventi per DIOCESI DI ROMA
BEGIN:VEVENT
DTSTART;TZID=Europe/Rome:20260303T150000
DTEND;TZID=Europe/Rome:20260303T150000
DTSTAMP:20260421T070737
CREATED:20260226T104954Z
LAST-MODIFIED:20260226T104954Z
UID:40199-1772550000-1772550000@www.diocesidiroma.it
SUMMARY:Presso il Pontificio Istituto Teologico Giovanni Paolo II incontra il CdA della Fondazione Benedetto XVI
DESCRIPTION:Presso il Pontificio Istituto Teologico Giovanni Paolo II incontra il CdA della Fondazione Benedetto XVI   \n
URL:https://www.diocesidiroma.it/event/presso-il-pontificio-istituto-teologico-giovanni-paolo-ii-incontra-il-cda-della-fondazione-benedetto-xvi/
CATEGORIES:Vicario Generale
END:VEVENT
END:VCALENDAR