BEGIN:VCALENDAR
VERSION:2.0
PRODID:-//DIOCESI DI ROMA - ECPv4.6.14.1//NONSGML v1.0//EN
CALSCALE:GREGORIAN
METHOD:PUBLISH
X-WR-CALNAME:DIOCESI DI ROMA
X-ORIGINAL-URL:https://www.diocesidiroma.it
X-WR-CALDESC:Eventi per DIOCESI DI ROMA
BEGIN:VEVENT
DTSTART;TZID=Europe/Rome:20260402T173000
DTEND;TZID=Europe/Rome:20260402T173000
DTSTAMP:20260421T070740
CREATED:20260330T060732Z
LAST-MODIFIED:20260330T060732Z
UID:40745-1775151000-1775151000@www.diocesidiroma.it
SUMMARY:Presso la Basilica di San Giovanni in Laterano concelebra con il Santo Padre Leone XIV alla Messa vespertina «Cena del Signore»
DESCRIPTION:Presso la Basilica di San Giovanni in Laterano concelebra con il Santo Padre Leone XIV alla Messa vespertina «Cena del Signore» \n
URL:https://www.diocesidiroma.it/event/presso-la-basilica-di-san-giovanni-in-laterano-concelebra-con-il-santo-padre-leone-xiv-alla-messa-vespertina-cena-del-signore/
CATEGORIES:Vicario Generale
END:VEVENT
END:VCALENDAR