BEGIN:VCALENDAR
VERSION:2.0
PRODID:-//DIOCESI DI ROMA - ECPv4.6.14.1//NONSGML v1.0//EN
CALSCALE:GREGORIAN
METHOD:PUBLISH
X-WR-CALNAME:DIOCESI DI ROMA
X-ORIGINAL-URL:https://www.diocesidiroma.it
X-WR-CALDESC:Eventi per DIOCESI DI ROMA
BEGIN:VEVENT
DTSTART;TZID=Europe/Rome:20260404T210000
DTEND;TZID=Europe/Rome:20260404T210000
DTSTAMP:20260423T182422
CREATED:20260330T060950Z
LAST-MODIFIED:20260330T060950Z
UID:40753-1775336400-1775336400@www.diocesidiroma.it
SUMMARY:Presso la Basilica di San Giovanni in Laterano presiede la Veglia Pasquale nella notte santa
DESCRIPTION:Presso la Basilica di San Giovanni in Laterano presiede la Veglia Pasquale nella notte santa \n
URL:https://www.diocesidiroma.it/event/presso-la-basilica-di-san-giovanni-in-laterano-presiede-la-veglia-pasquale-nella-notte-santa/
CATEGORIES:Vicario Generale
END:VEVENT
END:VCALENDAR