BEGIN:VCALENDAR
VERSION:2.0
PRODID:-//DIOCESI DI ROMA - ECPv4.6.14.1//NONSGML v1.0//EN
CALSCALE:GREGORIAN
METHOD:PUBLISH
X-WR-CALNAME:DIOCESI DI ROMA
X-ORIGINAL-URL:https://www.diocesidiroma.it
X-WR-CALDESC:Eventi per DIOCESI DI ROMA
BEGIN:VEVENT
DTSTART;TZID=Europe/Rome:20220318T170000
DTEND;TZID=Europe/Rome:20220318T170000
DTSTAMP:20260423T163228
CREATED:20220311T185359Z
LAST-MODIFIED:20220311T185359Z
UID:20696-1647622800-1647622800@www.diocesidiroma.it
SUMMARY:Presso la Cappella della Casa generalizia dell’Istituto delle Figlie di Maria Santissima dell’Orto celebra la Messa in occasione dell’apertura del capitolo generale dell’ordine
DESCRIPTION:Presso la Cappella della Casa generalizia dell’Istituto delle Figlie di Maria Santissima dell’Orto celebra la Messa in occasione dell’apertura del capitolo generale dell’ordine \n
URL:https://www.diocesidiroma.it/event/presso-la-cappella-della-casa-generalizia-dellistituto-delle-figlie-di-maria-santissima-dellorto-celebra-la-messa-in-occasione-dellapertura-del-capitolo-generale-dell/
CATEGORIES:NON USARE --- Agenda del Vicario
END:VEVENT
END:VCALENDAR