BEGIN:VCALENDAR
VERSION:2.0
PRODID:-//DIOCESI DI ROMA - ECPv4.6.14.1//NONSGML v1.0//EN
CALSCALE:GREGORIAN
METHOD:PUBLISH
X-WR-CALNAME:DIOCESI DI ROMA
X-ORIGINAL-URL:https://www.diocesidiroma.it
X-WR-CALDESC:Eventi per DIOCESI DI ROMA
BEGIN:VEVENT
DTSTART;TZID=Europe/Rome:20210920T163000
DTEND;TZID=Europe/Rome:20210920T163000
DTSTAMP:20260425T124120
CREATED:20210917T075406Z
LAST-MODIFIED:20210917T075438Z
UID:17899-1632155400-1632155400@www.diocesidiroma.it
SUMMARY:Presso la Casa Generalizia dei Missionari della Fede tiene una relazione sulla sinodalità
DESCRIPTION:Presso la Casa Generalizia dei Missionari della Fede tiene una relazione sulla sinodalità. \n
URL:https://www.diocesidiroma.it/event/presso-la-casa-generalizia-dei-missionari-della-fede-tiene-una-relazione-sulla-sinodalita/
CATEGORIES:NON USARE --- Agenda del Vicario
END:VEVENT
END:VCALENDAR