BEGIN:VCALENDAR
VERSION:2.0
PRODID:-//DIOCESI DI ROMA - ECPv4.6.14.1//NONSGML v1.0//EN
CALSCALE:GREGORIAN
METHOD:PUBLISH
X-WR-CALNAME:DIOCESI DI ROMA
X-ORIGINAL-URL:https://www.diocesidiroma.it
X-WR-CALDESC:Eventi per DIOCESI DI ROMA
BEGIN:VEVENT
DTSTART;TZID=Europe/Rome:20231104T163000
DTEND;TZID=Europe/Rome:20231104T163000
DTSTAMP:20260421T030248
CREATED:20231027T134605Z
LAST-MODIFIED:20231027T134953Z
UID:27754-1699115400-1699115400@www.diocesidiroma.it
SUMMARY:Presso la Casa Generalizia delle Figlie di Santa Maria di Leuca presiede l’Eucarestia di ringraziamento per l’avvenuta beatificazione della Madre Elisa Martine
DESCRIPTION:Presso la Casa Generalizia delle Figlie di Santa Maria di Leuca presiede l’Eucarestia di ringraziamento per l’avvenuta beatificazione della Madre Elisa Martinez. \n
URL:https://www.diocesidiroma.it/event/presso-la-casa-generalizia-delle-figlie-di-santa-maria-di-leuca-presiede-leucarestia-di-ringraziamento-per-lavvenuta-beatificazione-della-madre-elisa-martine/
CATEGORIES:NON USARE --- Agenda del Vicario
END:VEVENT
END:VCALENDAR