BEGIN:VCALENDAR
VERSION:2.0
PRODID:-//DIOCESI DI ROMA - ECPv4.6.14.1//NONSGML v1.0//EN
CALSCALE:GREGORIAN
METHOD:PUBLISH
X-WR-CALNAME:DIOCESI DI ROMA
X-ORIGINAL-URL:https://www.diocesidiroma.it
X-WR-CALDESC:Eventi per DIOCESI DI ROMA
BEGIN:VEVENT
DTSTART;TZID=Europe/Rome:20221222T180000
DTEND;TZID=Europe/Rome:20221222T180000
DTSTAMP:20260421T105842
CREATED:20221216T102707Z
LAST-MODIFIED:20221216T102707Z
UID:24488-1671732000-1671732000@www.diocesidiroma.it
SUMMARY:Presso la Casa per il Clero anziano al Santuario della Madonna del Divino Amore incontra i sacerdoti in occasione del Natale e partecipa allo scambio degli auguri natalizi con il Consiglio Episcopale
DESCRIPTION:Presso la Casa per il Clero anziano al Santuario della Madonna del Divino Amore incontra i sacerdoti in occasione del Natale e partecipa allo scambio degli auguri natalizi con il Consiglio Episcopale. \n
URL:https://www.diocesidiroma.it/event/presso-la-casa-per-il-clero-anziano-al-santuario-della-madonna-del-divino-amore-incontra-i-sacerdoti-in-occasione-del-natale-e-partecipa-allo-scambio-degli-auguri-natalizi-con-il-consiglio-episcopale/
CATEGORIES:NON USARE --- Agenda del Vicario
END:VEVENT
END:VCALENDAR