BEGIN:VCALENDAR
VERSION:2.0
PRODID:-//DIOCESI DI ROMA - ECPv4.6.14.1//NONSGML v1.0//EN
CALSCALE:GREGORIAN
METHOD:PUBLISH
X-WR-CALNAME:DIOCESI DI ROMA
X-ORIGINAL-URL:https://www.diocesidiroma.it
X-WR-CALDESC:Eventi per DIOCESI DI ROMA
BEGIN:VEVENT
DTSTART;TZID=Europe/Rome:20221219T103000
DTEND;TZID=Europe/Rome:20221219T103000
DTSTAMP:20260420T220138
CREATED:20221216T102351Z
LAST-MODIFIED:20221216T102351Z
UID:24478-1671445800-1671445800@www.diocesidiroma.it
SUMMARY:Presso la Casa Santa Maria della Provvidenza dell’Opera di Don Guanella celebra la Messa natalizia in occasione del centenario
DESCRIPTION:Presso la Casa Santa Maria della Provvidenza dell’Opera di Don Guanella celebra la Messa natalizia in occasione del centenario \n
URL:https://www.diocesidiroma.it/event/presso-la-casa-santa-maria-della-provvidenza-dellopera-di-don-guanella-celebra-la-messa-natalizia-in-occasione-del-centenario/
CATEGORIES:NON USARE --- Agenda del Vicario
END:VEVENT
END:VCALENDAR