BEGIN:VCALENDAR
VERSION:2.0
PRODID:-//DIOCESI DI ROMA - ECPv4.6.14.1//NONSGML v1.0//EN
CALSCALE:GREGORIAN
METHOD:PUBLISH
X-WR-CALNAME:DIOCESI DI ROMA
X-ORIGINAL-URL:https://www.diocesidiroma.it
X-WR-CALDESC:Eventi per DIOCESI DI ROMA
BEGIN:VEVENT
DTSTART;TZID=Europe/Rome:20191129T160000
DTEND;TZID=Europe/Rome:20191129T160000
DTSTAMP:20260422T060150
CREATED:20191122T094437Z
LAST-MODIFIED:20191122T094437Z
UID:9391-1575043200-1575043200@www.diocesidiroma.it
SUMMARY:Presso la Cittadella della Carità accoglie Papa Francesco in visita alla Caritas diocesana
DESCRIPTION:Presso la Cittadella della Carità accoglie Papa Francesco in visita alla Caritas diocesana.  \n
URL:https://www.diocesidiroma.it/event/presso-la-cittadella-della-carita-accoglie-papa-francesco-in-visita-alla-caritas-diocesana/
CATEGORIES:NON USARE --- Agenda del Vicario
END:VEVENT
END:VCALENDAR