BEGIN:VCALENDAR
VERSION:2.0
PRODID:-//DIOCESI DI ROMA - ECPv4.6.14.1//NONSGML v1.0//EN
CALSCALE:GREGORIAN
METHOD:PUBLISH
X-WR-CALNAME:DIOCESI DI ROMA
X-ORIGINAL-URL:https://www.diocesidiroma.it
X-WR-CALDESC:Eventi per DIOCESI DI ROMA
BEGIN:VEVENT
DTSTART;TZID=Europe/Rome:20250107T180000
DTEND;TZID=Europe/Rome:20250107T180000
DTSTAMP:20260424T020431
CREATED:20250102T080758Z
LAST-MODIFIED:20250102T080758Z
UID:32916-1736272800-1736272800@www.diocesidiroma.it
SUMMARY:Presso la parrocchia dei Santi Aquila e Priscilla\, Messa con i presbiteri del III anno di ordinazione e cena
DESCRIPTION:Presso la parrocchia dei Santi Aquila e Priscilla\, Messa con i presbiteri del III anno di ordinazione e cena \n
URL:https://www.diocesidiroma.it/event/presso-la-parrocchia-dei-santi-aquila-e-priscilla-messa-con-i-presbiteri-del-iii-anno-di-ordinazione-e-cena/
CATEGORIES:Vicario Generale
END:VEVENT
END:VCALENDAR