BEGIN:VCALENDAR
VERSION:2.0
PRODID:-//DIOCESI DI ROMA - ECPv4.6.14.1//NONSGML v1.0//EN
CALSCALE:GREGORIAN
METHOD:PUBLISH
X-WR-CALNAME:DIOCESI DI ROMA
X-ORIGINAL-URL:https://www.diocesidiroma.it
X-WR-CALDESC:Eventi per DIOCESI DI ROMA
BEGIN:VEVENT
DTSTART;TZID=Europe/Rome:20260212T170000
DTEND;TZID=Europe/Rome:20260212T170000
DTSTAMP:20260422T014801
CREATED:20260209T073523Z
LAST-MODIFIED:20260209T073523Z
UID:39824-1770915600-1770915600@www.diocesidiroma.it
SUMMARY:Presso la parrocchia dei Santi Fabiano e Venanzio introduce l’Incontro Caritas per i 10 anni di accoglienza nelle comunità della Diocesi
DESCRIPTION:Presso la parrocchia dei Santi Fabiano e Venanzio introduce l’Incontro Caritas per i 10 anni di accoglienza nelle comunità della Diocesi \n
URL:https://www.diocesidiroma.it/event/presso-la-parrocchia-dei-santi-fabiano-e-venanzio-introduce-lincontro-caritas-per-i-10-anni-di-accoglienza-nelle-comunita-della-diocesi/
CATEGORIES:Vicario Generale
END:VEVENT
END:VCALENDAR