BEGIN:VCALENDAR
VERSION:2.0
PRODID:-//DIOCESI DI ROMA - ECPv4.6.14.1//NONSGML v1.0//EN
CALSCALE:GREGORIAN
METHOD:PUBLISH
X-WR-CALNAME:DIOCESI DI ROMA
X-ORIGINAL-URL:https://www.diocesidiroma.it
X-WR-CALDESC:Eventi per DIOCESI DI ROMA
BEGIN:VEVENT
DTSTART;TZID=Europe/Rome:20191206T170000
DTEND;TZID=Europe/Rome:20191206T170000
DTSTAMP:20260423T182428
CREATED:20191129T083412Z
LAST-MODIFIED:20191129T083412Z
UID:9442-1575651600-1575651600@www.diocesidiroma.it
SUMMARY:Presso l’Archivio di Stato di Roma partecipa alla presentazione dell’Antica Via Lauretana
DESCRIPTION:Presso l’Archivio di Stato di Roma partecipa alla presentazione dell’Antica Via Lauretana.  \n
URL:https://www.diocesidiroma.it/event/presso-larchivio-di-stato-di-roma-partecipa-alla-presentazione-dellantica-via-lauretana/
CATEGORIES:NON USARE --- Agenda del Vicario
END:VEVENT
END:VCALENDAR