BEGIN:VCALENDAR
VERSION:2.0
PRODID:-//DIOCESI DI ROMA - ECPv4.6.14.1//NONSGML v1.0//EN
CALSCALE:GREGORIAN
METHOD:PUBLISH
X-WR-CALNAME:DIOCESI DI ROMA
X-ORIGINAL-URL:https://www.diocesidiroma.it
X-WR-CALDESC:Eventi per DIOCESI DI ROMA
BEGIN:VEVENT
DTSTART;TZID=Europe/Rome:20250618T190000
DTEND;TZID=Europe/Rome:20250618T190000
DTSTAMP:20260424T161128
CREATED:20250616T072548Z
LAST-MODIFIED:20250616T072548Z
UID:36100-1750273200-1750273200@www.diocesidiroma.it
SUMMARY:Presso Santa Maria in Trastevere - Veglia di preghiera "Morire di Speranza" in ricordo dei migranti morti nei viaggi verso l'Europa
DESCRIPTION:Presso Santa Maria in Trastevere – Veglia di preghiera “Morire di Speranza” in ricordo dei migranti morti nei viaggi verso l’Europa \n
URL:https://www.diocesidiroma.it/event/presso-santa-maria-in-trastevere-veglia-di-preghiera-morire-di-speranza-in-ricordo-dei-migranti-morti-nei-viaggi-verso-leuropa/
CATEGORIES:Vicario Generale
END:VEVENT
END:VCALENDAR