BEGIN:VCALENDAR
VERSION:2.0
PRODID:-//DIOCESI DI ROMA - ECPv4.6.14.1//NONSGML v1.0//EN
CALSCALE:GREGORIAN
METHOD:PUBLISH
X-WR-CALNAME:DIOCESI DI ROMA
X-ORIGINAL-URL:https://www.diocesidiroma.it
X-WR-CALDESC:Eventi per DIOCESI DI ROMA
BEGIN:VEVENT
DTSTART;TZID=Europe/Rome:20231023T190000
DTEND;TZID=Europe/Rome:20231023T203000
DTSTAMP:20260421T025940
CREATED:20231006T082603Z
LAST-MODIFIED:20231006T082603Z
UID:27487-1698087600-1698093000@www.diocesidiroma.it
SUMMARY:Primo Corso di formazione per i nuovi ministri straordinari della comunione - Parrocchia San Giovanni Bosco (Uff. form. liturgica)
DESCRIPTION:Primo Corso di formazione per i nuovi ministri straordinari della comunione – Parrocchia San Giovanni Bosco (Uff. form. liturgica) \n
URL:https://www.diocesidiroma.it/event/primo-corso-di-formazione-per-i-nuovi-ministri-straordinari-della-comunione-parrocchia-san-giovanni-bosco-uff-form-liturgica/
CATEGORIES:In Diocesi,Iniziative degli Uffici
END:VEVENT
END:VCALENDAR