BEGIN:VCALENDAR
VERSION:2.0
PRODID:-//DIOCESI DI ROMA - ECPv4.6.14.1//NONSGML v1.0//EN
CALSCALE:GREGORIAN
METHOD:PUBLISH
X-WR-CALNAME:DIOCESI DI ROMA
X-ORIGINAL-URL:https://www.diocesidiroma.it
X-WR-CALDESC:Eventi per DIOCESI DI ROMA
BEGIN:VEVENT
DTSTART;TZID=Europe/Rome:20201018T000000
DTEND;TZID=Europe/Rome:20201018T000000
DTSTAMP:20260423T182500
CREATED:20200917T083720Z
LAST-MODIFIED:20200917T083809Z
UID:11681-1602979200-1602979200@www.diocesidiroma.it
SUMMARY:Processione del Senor de los Milagros da Santa Maria in Vallicella a piazza San Pietro
DESCRIPTION:Processione del Senor de los Milagros da Santa Maria in Vallicella a piazza San Pietro\, a cura dell’Ufficio Migrantes. \n
URL:https://www.diocesidiroma.it/event/processione-del-senor-de-los-milagros-da-santa-maria-in-vallicella-a-piazza-san-pietro-2/
CATEGORIES:Iniziative degli Uffici
END:VEVENT
END:VCALENDAR