BEGIN:VCALENDAR
VERSION:2.0
PRODID:-//DIOCESI DI ROMA - ECPv4.6.14.1//NONSGML v1.0//EN
CALSCALE:GREGORIAN
METHOD:PUBLISH
X-WR-CALNAME:DIOCESI DI ROMA
X-ORIGINAL-URL:https://www.diocesidiroma.it
X-WR-CALDESC:Eventi per DIOCESI DI ROMA
BEGIN:VEVENT
DTSTART;TZID=Europe/Rome:20231022T000000
DTEND;TZID=Europe/Rome:20231022T000000
DTSTAMP:20260421T011516
CREATED:20231006T082512Z
LAST-MODIFIED:20231006T082512Z
UID:27485-1697932800-1697932800@www.diocesidiroma.it
SUMMARY:Processione del Señor de los Milagros fino a Piazza San Pietro e Angelus con il Santo Padre (Uff. Migrantes)
DESCRIPTION:Processione del Señor de los Milagros fino a Piazza San Pietro e Angelus con il Santo Padre (Uff. Migrantes) \n
URL:https://www.diocesidiroma.it/event/processione-del-senor-de-los-milagros-fino-a-piazza-san-pietro-e-angelus-con-il-santo-padre-uff-migrantes/
CATEGORIES:In Diocesi,Iniziative degli Uffici
END:VEVENT
END:VCALENDAR