BEGIN:VCALENDAR
VERSION:2.0
PRODID:-//DIOCESI DI ROMA - ECPv4.6.14.1//NONSGML v1.0//EN
CALSCALE:GREGORIAN
METHOD:PUBLISH
X-WR-CALNAME:DIOCESI DI ROMA
X-ORIGINAL-URL:https://www.diocesidiroma.it
X-WR-CALDESC:Eventi per DIOCESI DI ROMA
BEGIN:VEVENT
DTSTART;TZID=Europe/Rome:20221023T000000
DTEND;TZID=Europe/Rome:20221023T000000
DTSTAMP:20260424T133819
CREATED:20221013T111535Z
LAST-MODIFIED:20221013T111617Z
UID:23343-1666483200-1666483200@www.diocesidiroma.it
SUMMARY:Processione del Señor de los Milagros fino a Piazza San Pietro e Angelus con Papa Francesco (Uff. Past. Migrazioni)
DESCRIPTION:Processione del Señor de los Milagros fino a Piazza San Pietro e Angelus con Papa Francesco (Uff. Past. Migrazioni) \n
URL:https://www.diocesidiroma.it/event/processione-del-senor-de-los-milagros-fino-a-piazza-san-pietro-e-angelus-con-papa-francesco-uff-past-migrazioni/
CATEGORIES:In Diocesi,Iniziative degli Uffici
END:VEVENT
END:VCALENDAR