BEGIN:VCALENDAR
VERSION:2.0
PRODID:-//DIOCESI DI ROMA - ECPv4.6.14.1//NONSGML v1.0//EN
CALSCALE:GREGORIAN
METHOD:PUBLISH
X-WR-CALNAME:DIOCESI DI ROMA
X-ORIGINAL-URL:https://www.diocesidiroma.it
X-WR-CALDESC:Eventi per DIOCESI DI ROMA
BEGIN:VEVENT
DTSTART;TZID=Europe/Rome:20201109T000000
DTEND;TZID=Europe/Rome:20201109T000000
DTSTAMP:20260425T213806
CREATED:20200923T153931Z
LAST-MODIFIED:20200923T153931Z
UID:11776-1604880000-1604880000@www.diocesidiroma.it
SUMMARY:Pubblicazione del video sulla cattedrale di San Giovanni in Laterano
DESCRIPTION:Pubblicazione del video sulla cattedrale di San Giovanni in Laterano\, a cura del Servizio per la cultura e l’università e dell’Ufficio per la pastorale del tempo libero\, del turismo e dello sport. \n
URL:https://www.diocesidiroma.it/event/pubblicazione-del-video-sulla-cattedrale-di-san-giovanni-in-laterano/
CATEGORIES:Iniziative degli Uffici
END:VEVENT
END:VCALENDAR