BEGIN:VCALENDAR
VERSION:2.0
PRODID:-//DIOCESI DI ROMA - ECPv4.6.14.1//NONSGML v1.0//EN
CALSCALE:GREGORIAN
METHOD:PUBLISH
X-WR-CALNAME:DIOCESI DI ROMA
X-ORIGINAL-URL:https://www.diocesidiroma.it
X-WR-CALDESC:Eventi per DIOCESI DI ROMA
BEGIN:VEVENT
DTSTART;TZID=Europe/Rome:20260304T190000
DTEND;TZID=Europe/Rome:20260304T190000
DTSTAMP:20260421T083916
CREATED:20260226T105832Z
LAST-MODIFIED:20260226T105901Z
UID:40209-1772650800-1772650800@www.diocesidiroma.it
SUMMARY:Quaresimale su san Francesco nella basilica di San Giovanni in Laterano
DESCRIPTION:Quaresimale su san Francesco nella basilica di San Giovanni in Laterano  \n
URL:https://www.diocesidiroma.it/event/quaresimale-su-an-francesco-nella-basilica-di-san-giovanni-in-laterano/
CATEGORIES:Vicario Generale
END:VEVENT
END:VCALENDAR