BEGIN:VCALENDAR
VERSION:2.0
PRODID:-//DIOCESI DI ROMA - ECPv4.6.14.1//NONSGML v1.0//EN
CALSCALE:GREGORIAN
METHOD:PUBLISH
X-WR-CALNAME:DIOCESI DI ROMA
X-ORIGINAL-URL:https://www.diocesidiroma.it
X-WR-CALDESC:Eventi per DIOCESI DI ROMA
BEGIN:VEVENT
DTSTART;VALUE=DATE:20231028
DTEND;VALUE=DATE:20231029
DTSTAMP:20260421T225239
CREATED:20231006T083101Z
LAST-MODIFIED:20231006T083101Z
UID:27497-1698451200-1698537599@www.diocesidiroma.it
SUMMARY:Raccolta alimentare diocesana a sostegno degli Empori della Solidarietà (Caritas)
DESCRIPTION:Raccolta alimentare diocesana a sostegno degli Empori della Solidarietà (Caritas) \n
URL:https://www.diocesidiroma.it/event/raccolta-alimentare-diocesana-a-sostegno-degli-empori-della-solidarieta-caritas/
CATEGORIES:In Diocesi,Iniziative degli Uffici
END:VEVENT
END:VCALENDAR