BEGIN:VCALENDAR
VERSION:2.0
PRODID:-//DIOCESI DI ROMA - ECPv4.6.14.1//NONSGML v1.0//EN
CALSCALE:GREGORIAN
METHOD:PUBLISH
X-WR-CALNAME:DIOCESI DI ROMA
X-ORIGINAL-URL:https://www.diocesidiroma.it
X-WR-CALDESC:Eventi per DIOCESI DI ROMA
BEGIN:VEVENT
DTSTART;TZID=Europe/Rome:20250605T110000
DTEND;TZID=Europe/Rome:20250605T110000
DTSTAMP:20260424T160935
CREATED:20250530T091520Z
LAST-MODIFIED:20250530T091520Z
UID:35892-1749121200-1749121200@www.diocesidiroma.it
SUMMARY:Relaziona al Convegno internazionale dei Gruppi di Studi Orionini 2025
DESCRIPTION:Relaziona al Convegno internazionale dei Gruppi di Studi Orionini 2025 \n
URL:https://www.diocesidiroma.it/event/relaziona-al-convegno-internazionale-dei-gruppi-di-studi-orionini-2025/
CATEGORIES:Vicario Generale
END:VEVENT
END:VCALENDAR