BEGIN:VCALENDAR
VERSION:2.0
PRODID:-//DIOCESI DI ROMA - ECPv4.6.14.1//NONSGML v1.0//EN
CALSCALE:GREGORIAN
METHOD:PUBLISH
X-WR-CALNAME:DIOCESI DI ROMA
X-ORIGINAL-URL:https://www.diocesidiroma.it
X-WR-CALDESC:Eventi per DIOCESI DI ROMA
BEGIN:VEVENT
DTSTART;TZID=Europe/Rome:20260411T160000
DTEND;TZID=Europe/Rome:20260411T160000
DTSTAMP:20260421T085131
CREATED:20260330T064710Z
LAST-MODIFIED:20260330T064710Z
UID:40757-1775923200-1775923200@www.diocesidiroma.it
SUMMARY:Relaziona all’Assemblea Nazionale di Pax Christi
DESCRIPTION:Relaziona all’Assemblea Nazionale di Pax Christi \n
URL:https://www.diocesidiroma.it/event/relaziona-allassemblea-nazionale-di-pax-christi/
CATEGORIES:Vicario Generale
END:VEVENT
END:VCALENDAR