BEGIN:VCALENDAR
VERSION:2.0
PRODID:-//DIOCESI DI ROMA - ECPv4.6.14.1//NONSGML v1.0//EN
CALSCALE:GREGORIAN
METHOD:PUBLISH
X-WR-CALNAME:DIOCESI DI ROMA
X-ORIGINAL-URL:https://www.diocesidiroma.it
X-WR-CALDESC:Eventi per DIOCESI DI ROMA
BEGIN:VEVENT
DTSTART;TZID=Europe/Rome:20191126T083000
DTEND;TZID=Europe/Rome:20191126T083000
DTSTAMP:20260423T000146
CREATED:20191122T094106Z
LAST-MODIFIED:20191122T094106Z
UID:9381-1574757000-1574757000@www.diocesidiroma.it
SUMMARY:Riceve i sacerdoti.
DESCRIPTION:Riceve i sacerdoti. \n
URL:https://www.diocesidiroma.it/event/riceve-i-sacerdoti-18/
CATEGORIES:NON USARE --- Agenda del Vicario
END:VEVENT
END:VCALENDAR