BEGIN:VCALENDAR
VERSION:2.0
PRODID:-//DIOCESI DI ROMA - ECPv4.6.14.1//NONSGML v1.0//EN
CALSCALE:GREGORIAN
METHOD:PUBLISH
X-WR-CALNAME:DIOCESI DI ROMA
X-ORIGINAL-URL:https://www.diocesidiroma.it
X-WR-CALDESC:Eventi per DIOCESI DI ROMA
BEGIN:VEVENT
DTSTART;TZID=Europe/Rome:20190528T083000
DTEND;TZID=Europe/Rome:20190528T083000
DTSTAMP:20260423T181705
CREATED:20190527T093705Z
LAST-MODIFIED:20190528T082520Z
UID:7667-1559032200-1559032200@www.diocesidiroma.it
SUMMARY:Riceve i sacerdoti
DESCRIPTION:Dalle ore 8.30 riceve i sacerdoti \n
URL:https://www.diocesidiroma.it/event/riceve-i-sacerdoti-8/
CATEGORIES:NON USARE --- Agenda del Vicario
END:VEVENT
END:VCALENDAR