BEGIN:VCALENDAR
VERSION:2.0
PRODID:-//DIOCESI DI ROMA - ECPv4.6.14.1//NONSGML v1.0//EN
CALSCALE:GREGORIAN
METHOD:PUBLISH
X-WR-CALNAME:DIOCESI DI ROMA
X-ORIGINAL-URL:https://www.diocesidiroma.it
X-WR-CALDESC:Eventi per DIOCESI DI ROMA
BEGIN:VEVENT
DTSTART;TZID=Europe/Rome:20190604T083000
DTEND;TZID=Europe/Rome:20190604T083000
DTSTAMP:20260421T191941
CREATED:20190531T105402Z
LAST-MODIFIED:20190531T105402Z
UID:7722-1559637000-1559637000@www.diocesidiroma.it
SUMMARY:Riceve i sacerdoti
DESCRIPTION:Riceve i sacerdoti.  \n
URL:https://www.diocesidiroma.it/event/riceve-i-sacerdoti-9/
CATEGORIES:NON USARE --- Agenda del Vicario
END:VEVENT
END:VCALENDAR