BEGIN:VCALENDAR
VERSION:2.0
PRODID:-//DIOCESI DI ROMA - ECPv4.6.14.1//NONSGML v1.0//EN
CALSCALE:GREGORIAN
METHOD:PUBLISH
X-WR-CALNAME:DIOCESI DI ROMA
X-ORIGINAL-URL:https://www.diocesidiroma.it
X-WR-CALDESC:Eventi per DIOCESI DI ROMA
BEGIN:VEVENT
DTSTART;VALUE=DATE:20171216
DTEND;VALUE=DATE:20171217
DTSTAMP:20260425T133159
CREATED:20171228T120513Z
LAST-MODIFIED:20171228T120513Z
UID:467-1513382400-1513468799@www.diocesidiroma.it
SUMMARY:Ritiro annuale
DESCRIPTION:
URL:https://www.diocesidiroma.it/event/ritiro-annuale/
CATEGORIES:Iniziative degli Uffici
END:VEVENT
END:VCALENDAR