BEGIN:VCALENDAR
VERSION:2.0
PRODID:-//DIOCESI DI ROMA - ECPv4.6.14.1//NONSGML v1.0//EN
CALSCALE:GREGORIAN
METHOD:PUBLISH
X-WR-CALNAME:DIOCESI DI ROMA
X-ORIGINAL-URL:https://www.diocesidiroma.it
X-WR-CALDESC:Eventi per DIOCESI DI ROMA
BEGIN:VEVENT
DTSTART;TZID=Europe/Rome:20191201T090000
DTEND;TZID=Europe/Rome:20191201T150000
DTSTAMP:20260423T093441
CREATED:20190917T105028Z
LAST-MODIFIED:20190917T105427Z
UID:8509-1575190800-1575212400@www.diocesidiroma.it
SUMMARY:Ritiro di Avvento pastorale sanitaria
DESCRIPTION:
URL:https://www.diocesidiroma.it/event/ritiro-di-avvento-pastorale-sanitaria/
CATEGORIES:Iniziative degli Uffici
END:VEVENT
END:VCALENDAR