BEGIN:VCALENDAR
VERSION:2.0
PRODID:-//DIOCESI DI ROMA - ECPv4.6.14.1//NONSGML v1.0//EN
CALSCALE:GREGORIAN
METHOD:PUBLISH
X-WR-CALNAME:DIOCESI DI ROMA
X-ORIGINAL-URL:https://www.diocesidiroma.it
X-WR-CALDESC:Eventi per DIOCESI DI ROMA
BEGIN:VEVENT
DTSTART;TZID=Europe/Rome:20201203T190000
DTEND;TZID=Europe/Rome:20201203T190000
DTSTAMP:20260424T202222
CREATED:20200923T162357Z
LAST-MODIFIED:20200923T162432Z
UID:11853-1607022000-1607022000@www.diocesidiroma.it
SUMMARY:Ritiro di Avvento per gli universitari
DESCRIPTION:Ritiro di Avvento per gli universitari\, a cura del Servizio per la cultura e l’università. \n
URL:https://www.diocesidiroma.it/event/ritiro-di-avvento-per-gli-universitari/
CATEGORIES:Iniziative degli Uffici
END:VEVENT
END:VCALENDAR