BEGIN:VCALENDAR
VERSION:2.0
PRODID:-//DIOCESI DI ROMA - ECPv4.6.14.1//NONSGML v1.0//EN
CALSCALE:GREGORIAN
METHOD:PUBLISH
X-WR-CALNAME:DIOCESI DI ROMA
X-ORIGINAL-URL:https://www.diocesidiroma.it
X-WR-CALDESC:Eventi per DIOCESI DI ROMA
BEGIN:VEVENT
DTSTART;VALUE=DATE:20251213
DTEND;VALUE=DATE:20251214
DTSTAMP:20260421T110447
CREATED:20250911T063604Z
LAST-MODIFIED:20250911T063604Z
UID:37063-1765584000-1765670399@www.diocesidiroma.it
SUMMARY:Ritiro di Avvento per i giovani a S. Marcella (Uff. per la Pastorale della salute)
DESCRIPTION:Ritiro di Avvento per i giovani a S. Marcella (Uff. per la Pastorale della salute) \n
URL:https://www.diocesidiroma.it/event/ritiro-di-avvento-per-i-giovani-a-s-marcella-uff-per-la-pastorale-della-salute/
CATEGORIES:In Diocesi,Iniziative degli Uffici
END:VEVENT
END:VCALENDAR