BEGIN:VCALENDAR
VERSION:2.0
PRODID:-//DIOCESI DI ROMA - ECPv4.6.14.1//NONSGML v1.0//EN
CALSCALE:GREGORIAN
METHOD:PUBLISH
X-WR-CALNAME:DIOCESI DI ROMA
X-ORIGINAL-URL:https://www.diocesidiroma.it
X-WR-CALDESC:Eventi per DIOCESI DI ROMA
BEGIN:VEVENT
DTSTART;TZID=Europe/Rome:20201128T100000
DTEND;TZID=Europe/Rome:20201128T170000
DTSTAMP:20260425T160648
CREATED:20200923T161405Z
LAST-MODIFIED:20200923T161405Z
UID:11832-1606557600-1606582800@www.diocesidiroma.it
SUMMARY:Ritiro di Avvento per il mondo del lavoro
DESCRIPTION:Ritiro di Avvento per il mondo del lavoro\, a cura del Servizio per la pastorale sociale.  \n
URL:https://www.diocesidiroma.it/event/ritiro-di-avvento-per-il-mondo-del-lavoro-3/
CATEGORIES:Iniziative degli Uffici
END:VEVENT
END:VCALENDAR