BEGIN:VCALENDAR
VERSION:2.0
PRODID:-//DIOCESI DI ROMA - ECPv4.6.14.1//NONSGML v1.0//EN
CALSCALE:GREGORIAN
METHOD:PUBLISH
X-WR-CALNAME:DIOCESI DI ROMA
X-ORIGINAL-URL:https://www.diocesidiroma.it
X-WR-CALDESC:Eventi per DIOCESI DI ROMA
BEGIN:VEVENT
DTSTART;TZID=Europe/Rome:20241214T000000
DTEND;TZID=Europe/Rome:20241214T000000
DTSTAMP:20260423T163955
CREATED:20240823T072916Z
LAST-MODIFIED:20240823T072916Z
UID:30694-1734134400-1734134400@www.diocesidiroma.it
SUMMARY:Ritiro di Avvento per operatori pastorali della carità (Uff. caritas)
DESCRIPTION:Ritiro di Avvento per operatori pastorali della carità (Uff. caritas) \n
URL:https://www.diocesidiroma.it/event/ritiro-di-avvento-per-operatori-pastorali-della-carita-uff-caritas/
CATEGORIES:Caritas,In Diocesi
END:VEVENT
END:VCALENDAR