BEGIN:VCALENDAR
VERSION:2.0
PRODID:-//DIOCESI DI ROMA - ECPv4.6.14.1//NONSGML v1.0//EN
CALSCALE:GREGORIAN
METHOD:PUBLISH
X-WR-CALNAME:DIOCESI DI ROMA
X-ORIGINAL-URL:https://www.diocesidiroma.it
X-WR-CALDESC:Eventi per DIOCESI DI ROMA
BEGIN:VEVENT
DTSTART;TZID=Europe/Rome:20190331T093000
DTEND;TZID=Europe/Rome:20190331T163000
DTSTAMP:20260421T025754
CREATED:20181011T083539Z
LAST-MODIFIED:20181011T083539Z
UID:5045-1554024600-1554049800@www.diocesidiroma.it
SUMMARY:Ritiro di Quaresima per gli operatori socio-sanitari al Santuario del Divino Amore
DESCRIPTION:Ritiro di Quaresima per gli operatori socio-sanitari al Santuario del Divino Amore\, a cura del Centro per la pastorale sanitaria.  \n
URL:https://www.diocesidiroma.it/event/ritiro-di-quaresima-per-gli-operatori-socio-sanitari-al-santuario-del-divino-amore/
CATEGORIES:Iniziative degli Uffici
END:VEVENT
END:VCALENDAR