BEGIN:VCALENDAR
VERSION:2.0
PRODID:-//DIOCESI DI ROMA - ECPv4.6.14.1//NONSGML v1.0//EN
CALSCALE:GREGORIAN
METHOD:PUBLISH
X-WR-CALNAME:DIOCESI DI ROMA
X-ORIGINAL-URL:https://www.diocesidiroma.it
X-WR-CALDESC:Eventi per DIOCESI DI ROMA
BEGIN:VEVENT
DTSTART;TZID=Europe/Rome:20230326T000000
DTEND;TZID=Europe/Rome:20230326T000000
DTSTAMP:20260421T182559
CREATED:20230302T091837Z
LAST-MODIFIED:20230302T091837Z
UID:25533-1679788800-1679788800@www.diocesidiroma.it
SUMMARY:Ritiro di Quaresima per i docenti (Uff. Cultura e Università)
DESCRIPTION:Ritiro di Quaresima per i docenti (Uff. Cultura e Università) \n
URL:https://www.diocesidiroma.it/event/ritiro-di-quaresima-per-i-docenti-uff-cultura-e-universita/
CATEGORIES:In Diocesi,Iniziative degli Uffici
END:VEVENT
END:VCALENDAR