BEGIN:VCALENDAR
VERSION:2.0
PRODID:-//DIOCESI DI ROMA - ECPv4.6.14.1//NONSGML v1.0//EN
CALSCALE:GREGORIAN
METHOD:PUBLISH
X-WR-CALNAME:DIOCESI DI ROMA
X-ORIGINAL-URL:https://www.diocesidiroma.it
X-WR-CALDESC:Eventi per DIOCESI DI ROMA
BEGIN:VEVENT
DTSTART;VALUE=DATE:20260613
DTEND;VALUE=DATE:20260614
DTSTAMP:20260421T014137
CREATED:20251030T122324Z
LAST-MODIFIED:20251030T122324Z
UID:38299-1781308800-1781395199@www.diocesidiroma.it
SUMMARY:Ritiro e Celebrazione Eucaristica per Adoratori e Ministri Straordinari di Culto al Santuario del Divino Amore
DESCRIPTION:Ritiro e Celebrazione Eucaristica per Adoratori e Ministri Straordinari di Culto al Santuario del Divino Amore (Uff. per la formazione liturgica e la celebrazione dei Sacramenti) \n
URL:https://www.diocesidiroma.it/event/ritiro-e-celebrazione-eucaristica-per-adoratori-e-ministri-straordinari-di-culto-al-santuario-del-divino-amore/
CATEGORIES:In Diocesi,Iniziative degli Uffici
END:VEVENT
END:VCALENDAR