BEGIN:VCALENDAR
VERSION:2.0
PRODID:-//DIOCESI DI ROMA - ECPv4.6.14.1//NONSGML v1.0//EN
CALSCALE:GREGORIAN
METHOD:PUBLISH
X-WR-CALNAME:DIOCESI DI ROMA
X-ORIGINAL-URL:https://www.diocesidiroma.it
X-WR-CALDESC:Eventi per DIOCESI DI ROMA
BEGIN:VEVENT
DTSTART;TZID=Europe/Rome:20240316T000000
DTEND;TZID=Europe/Rome:20240316T000000
DTSTAMP:20260423T142108
CREATED:20231011T071135Z
LAST-MODIFIED:20231011T071135Z
UID:27623-1710547200-1710547200@www.diocesidiroma.it
SUMMARY:Ritiro per gli operatori pastorali dell'ambito della carità
DESCRIPTION:Ritiro per gli operatori pastorali dell’ambito della carità  \n
URL:https://www.diocesidiroma.it/event/ritiro-per-gli-operatori-pastorali-dellambito-della-carita-2/
CATEGORIES:In Diocesi,Iniziative degli Uffici
END:VEVENT
END:VCALENDAR