BEGIN:VCALENDAR
VERSION:2.0
PRODID:-//DIOCESI DI ROMA - ECPv4.6.14.1//NONSGML v1.0//EN
CALSCALE:GREGORIAN
METHOD:PUBLISH
X-WR-CALNAME:DIOCESI DI ROMA
X-ORIGINAL-URL:https://www.diocesidiroma.it
X-WR-CALDESC:Eventi per DIOCESI DI ROMA
BEGIN:VEVENT
DTSTART;TZID=Europe/Rome:20190615T000000
DTEND;TZID=Europe/Rome:20190615T000000
DTSTAMP:20260421T044107
CREATED:20181023T133441Z
LAST-MODIFIED:20181023T133441Z
UID:5287-1560556800-1560556800@www.diocesidiroma.it
SUMMARY:Ritiro spirituale dei cappellani del mondo del lavoro e dei missionari degli ambienti di lavoro
DESCRIPTION:Ritiro spirituale dei cappellani del mondo del lavoro e dei missionari degli ambienti di lavoro\, a cura dell’Ufficio per la pastorale sociale. \n
URL:https://www.diocesidiroma.it/event/ritiro-spirituale-dei-cappellani-del-mondo-del-lavoro-e-dei-missionari-degli-ambienti-di-lavoro/
CATEGORIES:Iniziative degli Uffici
END:VEVENT
END:VCALENDAR